BEGIN:VCALENDAR
VERSION:2.0
PRODID:-//Talks.cam//talks.cam.ac.uk//
X-WR-CALNAME:Talks.cam
BEGIN:VEVENT
SUMMARY:Life in Extreme Environments for Astronomers - Professor Charles C
 ockell\, Open University
DTSTART:20100210T175000Z
DTEND:20100210T185000Z
UID:TALK21669@talks.cam.ac.uk
CONTACT:P. Dumitrescu
DESCRIPTION:Abstract not available
LOCATION: Mill Lane Room 4
END:VEVENT
END:VCALENDAR
