BEGIN:VCALENDAR
VERSION:2.0
PRODID:-//Talks.cam//talks.cam.ac.uk//
X-WR-CALNAME:Talks.cam
BEGIN:VEVENT
SUMMARY:Director and organisers welcome - Milla Kibble (Isaac Newton Insti
 tute)
DTSTART:20240617T084500Z
DTEND:20240617T090000Z
UID:TALK216985@talks.cam.ac.uk
DESCRIPTION:
LOCATION:No Room Required
END:VEVENT
END:VCALENDAR
