BEGIN:VCALENDAR
VERSION:2.0
PRODID:-//Talks.cam//talks.cam.ac.uk//
X-WR-CALNAME:Talks.cam
BEGIN:VEVENT
SUMMARY:MPhil Mini-Symposium Security Talks - MPhil students\, University 
 of Cambridge
DTSTART:20091204T100000Z
DTEND:20091204T111000Z
UID:TALK21699@talks.cam.ac.uk
CONTACT:Joseph Bonneau
DESCRIPTION:Five MPhil students will each present a recent security paper 
 for 10 minutes as part of the MPhil Mini-symposium:\n\nhttp://www.cl.cam.a
 c.uk/teaching/0910/C00/minisymp/programme.htm\n\n10:00 Omar-Salim Choudary
  (osc22)\n\n“Optimised to Fail: Card Readers for Online Banking”\, Saa
 r Drimer\, Steven J. Murdoch\, and Ross Anderson\, Financial Cryptography 
 and Data Security '09\n\n10:13 Roland Tai (ykrt2)\n\n“RFIDs and secret h
 andshakes: defending against ghost-and-leech attacks and unauthorized read
 s with context-aware communications”\, A. Czeskis\, K. Koscher\, J. R. S
 mith\, and T. Kohno\, ACM CCS '08 (Computer and Communications Security)\n
 \n10:26 Alexandros Toumazis (at443)\n\n“Tempest in a Teapot: Compromisin
 g Reflections Revisited”\, M. Backes\, T. Chen\, M. Duermuth\, H. P. A. 
 Lensch\, and M. Welk\, IEEE Symposium on Security and Privacy 2009\n\n10:3
 9 Danish Zeb (dz245)\n\n“Time and Location Based Services with Access Co
 ntrol”\, C. Bertolissi and M. Fernandez\, IEEE NTMS '08 (New Technologie
 s\, Mobility and Security)\n\n10:52 Guanwei Zeng (gz233)\n\n“Privacy-ena
 bling social networking over untrusted networks”\, J. Anderson\, C. Diaz
 \, J. Bonneau and F. Stajano\, WOSN ’09 (Online Social Networks)
LOCATION:Lecture Theatre 2\, Computer Laboratory\, William Gates Building
END:VEVENT
END:VCALENDAR
