BEGIN:VCALENDAR
VERSION:2.0
PRODID:-//Talks.cam//talks.cam.ac.uk//
X-WR-CALNAME:Talks.cam
BEGIN:VEVENT
SUMMARY:Loop-erased random walk in three dimensions - Daisuke Shiraishi (K
 yoto)
DTSTART:20240604T130000Z
DTEND:20240604T140000Z
UID:TALK217300@talks.cam.ac.uk
CONTACT:Perla Sousi
DESCRIPTION:Loop-erased random walk (LERW) is a random simple path obtaine
 d through erasing all loops chronologically from a simple random walk path
 . In this talk\, I will discuss recent progress on the convergence of 3D L
 ERW in the natural parametrization. This is joint work with Xinyi Li and S
 arai Hernandez-Torres.
LOCATION:MR12
END:VEVENT
END:VCALENDAR
