BEGIN:VCALENDAR
VERSION:2.0
PRODID:-//Talks.cam//talks.cam.ac.uk//
X-WR-CALNAME:Talks.cam
BEGIN:VEVENT
SUMMARY:Title to be confirmed - Carlos Garcia-Garcia (University of Oxford
 )
DTSTART:20241007T120000Z
DTEND:20241007T130000Z
UID:TALK217435@talks.cam.ac.uk
CONTACT:Thomas Colas
DESCRIPTION:Abstract not available
LOCATION:CMS\, Pav. B\, CTC Common Room (B1.19) [Potter Room]
END:VEVENT
END:VCALENDAR
