BEGIN:VCALENDAR
VERSION:2.0
PRODID:-//Talks.cam//talks.cam.ac.uk//
X-WR-CALNAME:Talks.cam
BEGIN:VEVENT
SUMMARY:Out-of-Equilibrium Transport Measurements Through Nanopores Reveal
 s Velocity Fluctuations - Ulrich Keyser (University of Cambridge)
DTSTART:20240905T104500Z
DTEND:20240905T113000Z
UID:TALK218008@talks.cam.ac.uk
DESCRIPTION:
LOCATION:Seminar Room 1\, Newton Institute
END:VEVENT
END:VCALENDAR
