BEGIN:VCALENDAR
VERSION:2.0
PRODID:-//Talks.cam//talks.cam.ac.uk//
X-WR-CALNAME:Talks.cam
BEGIN:VEVENT
SUMMARY:Cryptocurrency ownership - Manju Puri (Duke)
DTSTART:20250213T123000Z
DTEND:20250213T133000Z
UID:TALK218380@talks.cam.ac.uk
CONTACT:Cerf Admin
DESCRIPTION:We report results from a large-scale survey of American househ
 olds to better understand the nature and drivers of cryptocurrency ownersh
 ip. The sample includes 1\,774 individuals on which data is gathered by th
 e Survey Research Center at the Institute for Social Research\, University
  of Michigan.  We obtain data on crypto ownership and ownership intent alo
 ngside a comprehensive suite of attributes. Crypto ownership is related to
  several variables including demographics\, psychological traits and attit
 udes measured through psychometric tests\, literacy\, gambling preferences
 \, financial participation and decision-making\, political views\, and oth
 er potential enablers such as regulations\, trust\, more widespread usage 
 including by different institutions. We discuss the implications for crypt
 o regulation and policy. 
LOCATION:W2.02\, CJBS
END:VEVENT
END:VCALENDAR
