BEGIN:VCALENDAR
VERSION:2.0
PRODID:-//Talks.cam//talks.cam.ac.uk//
X-WR-CALNAME:Talks.cam
BEGIN:VEVENT
SUMMARY:Large Intergenic Non-Coding RNAs:  From Discovery to Mechanism - D
 r. John L. Rinn\, Harvard Medical School\, Beth Israel Deaconess Medical C
 enter\, The Broad Institute
DTSTART:20091217T163000Z
DTEND:20091217T173000Z
UID:TALK21839@talks.cam.ac.uk
CONTACT:Dr Goncalo Castelo-Branco
DESCRIPTION:Abstract not available
LOCATION:Tea Room\, The Gurdon Institute\, Tennis Court Road
END:VEVENT
END:VCALENDAR
