BEGIN:VCALENDAR
VERSION:2.0
PRODID:-//Talks.cam//talks.cam.ac.uk//
X-WR-CALNAME:Talks.cam
BEGIN:VEVENT
SUMMARY:From Complex Data to Business Value - how will organisations react
  to the Tsunami of information in today's world? - Mark Salthouse\, IBM UK
 I Business Analytics and Optimisation Leader
DTSTART:20100406T123000Z
DTEND:20100406T133000Z
UID:TALK21840@talks.cam.ac.uk
CONTACT:16856
DESCRIPTION:Managers within organisations already complain they struggle t
 o get the right information to make fact based decisions\, let alone be ab
 le to make well founded predictions. At the same time we are seeing an unp
 recedented explosion of data inside and outside organisations - some class
 ically structured but much of it text\, voice and video. How can organisat
 ions react to this? Will they? If so\, when? This session will explore som
 e of the issues and potential approaches that could be taken. \n
LOCATION:Lecture Room 1\, Institute for Manufacturing\, West Cambridge
END:VEVENT
END:VCALENDAR
