BEGIN:VCALENDAR
VERSION:2.0
PRODID:-//Talks.cam//talks.cam.ac.uk//
X-WR-CALNAME:Talks.cam
BEGIN:VEVENT
SUMMARY:Share your front page - Rachel Thomas (University of Cambridge)\, 
 Marianne Freiberger (University of Cambridge)
DTSTART:20241001T141500Z
DTEND:20241001T145000Z
UID:TALK218419@talks.cam.ac.uk
DESCRIPTION:
LOCATION:Seminar Room 1\, Newton Institute
END:VEVENT
END:VCALENDAR
