BEGIN:VCALENDAR
VERSION:2.0
PRODID:-//Talks.cam//talks.cam.ac.uk//
X-WR-CALNAME:Talks.cam
BEGIN:VEVENT
SUMMARY:Pitch Development - facilitated groups - Ben Sparks (University of
  Bath)\, Katie Steckles (Sheffield Hallam University)
DTSTART:20241002T104500Z
DTEND:20241002T113000Z
UID:TALK218431@talks.cam.ac.uk
DESCRIPTION:
LOCATION:Seminar Room 1\, Newton Institute
END:VEVENT
END:VCALENDAR
