BEGIN:VCALENDAR
VERSION:2.0
PRODID:-//Talks.cam//talks.cam.ac.uk//
X-WR-CALNAME:Talks.cam
BEGIN:VEVENT
SUMMARY:Subfactors and quantum symmetries - Dietmar Bisch (Vanderbilt Univ
 ersity)
DTSTART:20241206T090000Z
DTEND:20241206T100000Z
UID:TALK218656@talks.cam.ac.uk
DESCRIPTION:Quantum symmetries can be described as tensor categories of bi
 modules associated to a subfactor. I will explain how various ways of cons
 tructing subfactors lead to interesting quantum symmetries and a natural n
 otion of degrees of noncommutativity for subfactors. The latter provides u
 nexpected examples of quantum channels with surprising properties.
LOCATION:Seminar Room 1\, Newton Institute
END:VEVENT
END:VCALENDAR
