BEGIN:VCALENDAR
VERSION:2.0
PRODID:-//Talks.cam//talks.cam.ac.uk//
X-WR-CALNAME:Talks.cam
BEGIN:VEVENT
SUMMARY:Discussion and networking - 
DTSTART:20240802T110000Z
DTEND:20240802T113000Z
UID:TALK219262@talks.cam.ac.uk
DESCRIPTION:
LOCATION:External
END:VEVENT
END:VCALENDAR
