BEGIN:VCALENDAR
VERSION:2.0
PRODID:-//Talks.cam//talks.cam.ac.uk//
X-WR-CALNAME:Talks.cam
BEGIN:VEVENT
SUMMARY:A roadmap of the brain: Modules\, gradients and systems - John Dun
 can (MRC CBSU)
DTSTART:20100222T160000Z
DTEND:20100222T173000Z
UID:TALK21957@talks.cam.ac.uk
CONTACT:Mandy Carter
DESCRIPTION:Abstract not available
LOCATION:Department of Experimental Psychology Seminar Room
END:VEVENT
END:VCALENDAR
