BEGIN:VCALENDAR
VERSION:2.0
PRODID:-//Talks.cam//talks.cam.ac.uk//
X-WR-CALNAME:Talks.cam
BEGIN:VEVENT
SUMMARY:Pairs of commuting matrices - Tim Browning (IST Austria)
DTSTART:20241029T143000Z
DTEND:20241029T153000Z
UID:TALK220090@talks.cam.ac.uk
CONTACT:Jef Laga
DESCRIPTION: I'll discuss commuting varieties and a new upper bound for th
 e number of pairs of commuting n x n matrices with integer entries and hei
 ght at most T\, as T -> \\infty. Our approach uses Fourier analysis and mo
 d p information\, together with a result about the flatness of the commuta
 tor Lie bracket\, which we also solve. This is joint work with Will Sawin 
 and Victor Wang.
LOCATION:MR13
END:VEVENT
END:VCALENDAR
