BEGIN:VCALENDAR
VERSION:2.0
PRODID:-//Talks.cam//talks.cam.ac.uk//
X-WR-CALNAME:Talks.cam
BEGIN:VEVENT
SUMMARY:Modules of equivariant Eilenberg--MacLane spectra - Clover May (NT
 NU)
DTSTART:20250116T101500Z
DTEND:20250116T111500Z
UID:TALK221290@talks.cam.ac.uk
DESCRIPTION:Since $\\mathbb{F}_p$ is a field\, any module over the Eilenbe
 rg--MacLane spectrum $H\\mathbb{F}_p$ splits as a wedge of suspensions of 
 $H\\mathbb{F}_p$ itself.&nbsp\; Equivariantly\, the module theory of $G$-e
 quivariant Eilenberg--MacLane spectra is much more complicated.&nbsp\; Eve
 n for the cyclic group $G=C_p$ and the constant Mackey functor $\\underlin
 e{\\mathbb{F}}_p$\, there are infinitely many indecomposable $H\\underline
 {\\mathbb{F}}_p$-modules.&nbsp\; In joint work in progress with Grevstad\,
  we show the classification of indecomposable $H\\underline{\\mathbb{F}}_p
 $-modules is often wild.
LOCATION:Seminar Room 1\, Newton Institute
END:VEVENT
END:VCALENDAR
