BEGIN:VCALENDAR
VERSION:2.0
PRODID:-//Talks.cam//talks.cam.ac.uk//
X-WR-CALNAME:Talks.cam
BEGIN:VEVENT
SUMMARY:Sir Michael Rawlins - Keynote Lecture - Sir Michael Rawlins (Natio
 nal Institute of Clinical Excellence)
DTSTART:20100121T170000Z
DTEND:20100121T190000Z
UID:TALK22132@talks.cam.ac.uk
CONTACT:3870
DESCRIPTION:Sir Michael Rawlins - Balancing the Evidence: The Role of Judg
 ement in Health Policy Decisions\n\nThe Chairman of the National Institute
  of Clinical Excellence (NICE) will deliver the Keynote Lecture\, opening 
 the second seminar in the Mellon Sawyer Seminar Series\, Modelling Futures
 : Understanding Risk and Uncertainty.
LOCATION:Mill Lane Lecture Halls\, Room 1
END:VEVENT
END:VCALENDAR
