BEGIN:VCALENDAR
VERSION:2.0
PRODID:-//Talks.cam//talks.cam.ac.uk//
X-WR-CALNAME:Talks.cam
BEGIN:VEVENT
SUMMARY:Euan Furness on &quot\;Drivers of the Shuram isotope excursion: bi
 ology\, geology\, and chemistry at the origin of animal life.&quot\; - Eua
 n Furness (Cambridge Zoology)
DTSTART:20241024T100000Z
DTEND:20241024T110000Z
UID:TALK221500@talks.cam.ac.uk
CONTACT:Paul B. Rimmer
DESCRIPTION:In Person.
LOCATION:Glover Room\, Memorial Court\, Clare College
END:VEVENT
END:VCALENDAR
