BEGIN:VCALENDAR
VERSION:2.0
PRODID:-//Talks.cam//talks.cam.ac.uk//
X-WR-CALNAME:Talks.cam
BEGIN:VEVENT
SUMMARY:LCLU Coffee - CANCELLED - None
DTSTART:20250327T110000Z
DTEND:20250327T120000Z
UID:TALK221575@talks.cam.ac.uk
CONTACT:Paul B. Rimmer
DESCRIPTION:This coffee is CANCELLED
LOCATION:Thirkill Room\, Old Court\, Clare College
END:VEVENT
END:VCALENDAR
