BEGIN:VCALENDAR
VERSION:2.0
PRODID:-//Talks.cam//talks.cam.ac.uk//
X-WR-CALNAME:Talks.cam
BEGIN:VEVENT
SUMMARY:A stochastic Burgers equation: Bringing together chaos expansion\,
  embedding theorems\, and Catalan numbers - Lototsky\, S (Southern Califor
 nia)
DTSTART:20100106T140000Z
DTEND:20100106T150000Z
UID:TALK22173@talks.cam.ac.uk
CONTACT:Mustapha Amrani
DESCRIPTION:A special stochastic perturbation of the Burgers equation is c
 onsidered. The nature of the perturbation is such that the solution is not
  square-integrable\, and the growth of the norms at different stochastic s
 cales is described by the Catalan numbers. Many similar equations with qua
 dratic nonlinearity exhibit the same behavior.
LOCATION:Seminar Room 1\, Newton Institute
END:VEVENT
END:VCALENDAR
