BEGIN:VCALENDAR
VERSION:2.0
PRODID:-//Talks.cam//talks.cam.ac.uk//
X-WR-CALNAME:Talks.cam
BEGIN:VEVENT
SUMMARY:St Catharine's Political Economy Seminar - Professor Claire Colomb
  - 'Governing urban platform capitalism. The contentious regulation of sho
 rt-term rental housing in European cities – a comparative approach' - Cl
 aire Colomb
DTSTART:20241127T180000Z
DTEND:20241127T193000Z
UID:TALK221905@talks.cam.ac.uk
CONTACT:Philippa Millerchip
DESCRIPTION:*Speaker:* Professor Claire Colomb\n\n*Title:*'Governing urban
  platform capitalism. The contentious regulation of short-term rental hous
 ing in European cities – a comparative approach''\n\n*Time:* 27 November
  2024\, 18:00-19:30\n\n*Location:* The Ramsden Room\, St Catharine's Colle
 ge.\n\nThe next St Catharine’s Political Economy Seminar will be held on
  Wednesday\, 27 November 2024. Professor Claire Colomb  will give a talk o
 n “Governing urban platform capitalism. The contentious regulation of sh
 ort-term rental housing in European cities – a comparative approach”. 
 The seminar will beheld in the Ramsden Room at St Catharine’s College fr
 om 6.00-7.30 pm. All are welcome. The seminar series is supported by the C
 ambridge Journal of Economics and the Economics and Policy Group at the Ca
 mbridge Judge Business School.\n\n*Speaker Overview:*\n\nClaire Colomb is 
 Professor of Land Economy (Planning\, Public Policy and Urban Studies) at 
 the University of Cambridge. She has a first degree in Social and Politica
 l Sciences from Sciences Po Paris (1998) and a PhD in Town Planning from U
 niversity College London (2008). She is a chartered Member of the Royal To
 wn Planning Institute (MRTPI) and elected Fellow of the UK Academy of Soci
 al Sciences (FAcSS). Prior to joining the University of Cambridge\, she wa
 s Professor of Urban Studies and Planning at the Bartlett School of Planni
 ng\, University College London (2005-2023)\, where she remains a honorary 
 professor\, and project developer for the European transnational co-operat
 ion programme INTERREG IIIB North-West Europe (2002-2004). Over the past 2
 5 years she has lived\, worked and researched in France\, the UK\, Germany
  and Spain.\n\nShe is the author of the book Staging the New Berlin: Place
  Marketing and the Politics of Urban Reinvention post-1989 (Routledge\, 20
 11)\; co-author of the book European Spatial Planning and Territorial Coop
 eration (Routledge\, 2010\, with S. Dühr and V. Nadin)\, and co-editor of
  Protest and Resistance in the Tourist City (Routledge\, 2016\, with J. No
 vy). She is the Co-President (2023-2027) (with Prof. Alberta Andreotti) of
  RC21\, the Research Committee on the Sociology of Urban and Regional Deve
 lopment of the International Sociological Association (ISA)\, the leading 
 international scientific network in urban sociology and urban studies. Her
  expertise and research interests span urban and regional planning\; publi
 c policy\; urban studies\, politics and sociology in an international comp
 arative perspective.\n\nThis talk is part of the St Catharine’s Politica
 l Economy Seminar Series series. www.politicaleconomy.group.cam.ac.uk
LOCATION:The Ramsden Room\, St Catharine's College
END:VEVENT
END:VCALENDAR
