BEGIN:VCALENDAR
VERSION:2.0
PRODID:-//Talks.cam//talks.cam.ac.uk//
X-WR-CALNAME:Talks.cam
BEGIN:VEVENT
SUMMARY:Ageing and age-associated mutations in human haematopoietic stem c
 ells - Elisa Laurenti - Wellcome-MRC Cambridge  Stem Cell Institute
DTSTART:20241018T120000Z
DTEND:20241018T130000Z
UID:TALK222016@talks.cam.ac.uk
CONTACT:Theresa Gross-Thebing
DESCRIPTION:Abstract not available
LOCATION:Biffen Theater- Please subscribe to mailing list for link
END:VEVENT
END:VCALENDAR
