BEGIN:VCALENDAR
VERSION:2.0
PRODID:-//Talks.cam//talks.cam.ac.uk//
X-WR-CALNAME:Talks.cam
BEGIN:VEVENT
SUMMARY:Understanding actomyosin contractility and force propagation withi
 n the zebrafish neural tube: an optogenetic approach - Clare Buckley - Uni
 versity of Manchester
DTSTART:20241115T130000Z
DTEND:20241115T140000Z
UID:TALK222019@talks.cam.ac.uk
CONTACT:Theresa Gross-Thebing
DESCRIPTION:Abstract not available
LOCATION:Biffen Theater- Please subscribe to mailing list for link
END:VEVENT
END:VCALENDAR
