BEGIN:VCALENDAR
VERSION:2.0
PRODID:-//Talks.cam//talks.cam.ac.uk//
X-WR-CALNAME:Talks.cam
BEGIN:VEVENT
SUMMARY:Affective Matter: Programmable wearable materials for health and w
 ellbeing - Athina Papadopoulou\, Assistant Professor\, New York Institute 
 of Technology
DTSTART:20241105T140000Z
DTEND:20241105T143000Z
UID:TALK222469@talks.cam.ac.uk
CONTACT:122293
DESCRIPTION:Affective Matter addresses the development and use of programm
 able wearable materials for the purpose of emotion-self regulation. Materi
 als can provide somatosensory feedback in response to physiological change
 s of the wearers’ body\, such as the wearer’s breathing rate\, impacti
 ng the wearer’s calmness or alertness. The somatosensory feedback is pro
 duced through material shape-change through pneumatic actuation and/or tem
 perature change. The presentation will demonstrate the process and results
  of case studies using affective sleeves made from programmable fabrics.
LOCATION:https://cam-ac-uk.zoom.us/j/83203210940?pwd=Vml3NmxOYitWTnRIbkRDd
 DdmdUxWdz09
END:VEVENT
END:VCALENDAR
