BEGIN:VCALENDAR
VERSION:2.0
PRODID:-//Talks.cam//talks.cam.ac.uk//
X-WR-CALNAME:Talks.cam
BEGIN:VEVENT
SUMMARY:&quot\;Organising microtubule organisers (and some new proteomics 
 tools) - Dr Ken Sawin\, Wellcome Trust Centre for Cell Biology\, Edinburgh
 .
DTSTART:20100121T143000Z
DTEND:20100121T163000Z
UID:TALK22254@talks.cam.ac.uk
CONTACT:Cath Tinley
DESCRIPTION:Abstract not available
LOCATION:Part II room\,  Department of Genetics
END:VEVENT
END:VCALENDAR
