BEGIN:VCALENDAR
VERSION:2.0
PRODID:-//Talks.cam//talks.cam.ac.uk//
X-WR-CALNAME:Talks.cam
BEGIN:VEVENT
SUMMARY:&quot\;Oversight of Stem Cell Research and Gene Therapy in Clinic&
 quot\; - Dr John Connolly - Head of Cell &amp\; Gene Therapies\, Dept of H
 ealth\, London
DTSTART:20100304T143000Z
DTEND:20100304T163000Z
UID:TALK22258@talks.cam.ac.uk
CONTACT:Cath Tinley
DESCRIPTION:Abstract not available
LOCATION:Part II room\,  Department of Genetics
END:VEVENT
END:VCALENDAR
