BEGIN:VCALENDAR
VERSION:2.0
PRODID:-//Talks.cam//talks.cam.ac.uk//
X-WR-CALNAME:Talks.cam
BEGIN:VEVENT
SUMMARY:Episodic Cognition in Cephalopod Molluscs - Dr Christelle Alves-Jo
 zet\, University of Caen\, Normandie.
DTSTART:20250131T163000Z
DTEND:20250131T180000Z
UID:TALK222826@talks.cam.ac.uk
CONTACT:Sara Seddon
DESCRIPTION:Abstract not available
LOCATION:Ground Floor Lecture Theatre\, Department of  Psychology
END:VEVENT
END:VCALENDAR
