BEGIN:VCALENDAR
VERSION:2.0
PRODID:-//Talks.cam//talks.cam.ac.uk//
X-WR-CALNAME:Talks.cam
BEGIN:VEVENT
SUMMARY:Title to be confirmed - Dr Loubna Bouarfa (Okra.ai)
DTSTART:20241128T140000Z
DTEND:20241128T150000Z
UID:TALK222955@talks.cam.ac.uk
CONTACT:Sri Aitken
DESCRIPTION:Abstract not available
LOCATION:Maxwell Centre
END:VEVENT
END:VCALENDAR
