BEGIN:VCALENDAR
VERSION:2.0
PRODID:-//Talks.cam//talks.cam.ac.uk//
X-WR-CALNAME:Talks.cam
BEGIN:VEVENT
SUMMARY:Discussing: Huber\, Matt ‘Ecology at the Point of Production: Cl
 imate Change and Class Struggle’  -  
DTSTART:20241015T120000Z
DTEND:20241015T130000Z
UID:TALK223315@talks.cam.ac.uk
CONTACT:Geography/SPRI Webmaster
DESCRIPTION:Reading Week\n\nhttps://roar-assets-auto.rbl.ms/documents/2997
 5/polygraph-28_huber-article.pdf
LOCATION:Hardy Building 101 (first floor)\, Downing Site\, Cambridge
END:VEVENT
END:VCALENDAR
