BEGIN:VCALENDAR
VERSION:2.0
PRODID:-//Talks.cam//talks.cam.ac.uk//
X-WR-CALNAME:Talks.cam
BEGIN:VEVENT
SUMMARY:Environmental regulation of CNS remyelination - Dr Mark Kotter\, L
 RM\, Cambridge
DTSTART:20100120T120000Z
DTEND:20100120T010000Z
UID:TALK22424@talks.cam.ac.uk
CONTACT:Elaine Garrod
DESCRIPTION:Abstract not available
LOCATION:Brain Repair Centre\, Forvie Site\, Robinson Way
END:VEVENT
END:VCALENDAR
