BEGIN:VCALENDAR
VERSION:2.0
PRODID:-//Talks.cam//talks.cam.ac.uk//
X-WR-CALNAME:Talks.cam
BEGIN:VEVENT
SUMMARY:How hypervelocity stars constrain the Galactic Centre - Sill Verbe
 rne (Leiden)
DTSTART:20241129T113000Z
DTEND:20241129T123000Z
UID:TALK224560@talks.cam.ac.uk
CONTACT:Sandro Tacchella
DESCRIPTION:Abstract not available
LOCATION:Ryle Seminar Room\, KICC + online
END:VEVENT
END:VCALENDAR
