BEGIN:VCALENDAR
VERSION:2.0
PRODID:-//Talks.cam//talks.cam.ac.uk//
X-WR-CALNAME:Talks.cam
BEGIN:VEVENT
SUMMARY:Analysis of Quantum Boolean Functions and Applications - Haonan Zh
 ang (University of South Carolina)
DTSTART:20241125T150000Z
DTEND:20241125T170000Z
UID:TALK224914@talks.cam.ac.uk
DESCRIPTION:
LOCATION:Seminar Room 2\, Newton Institute
END:VEVENT
END:VCALENDAR
