BEGIN:VCALENDAR
VERSION:2.0
PRODID:-//Talks.cam//talks.cam.ac.uk//
X-WR-CALNAME:Talks.cam
BEGIN:VEVENT
SUMMARY:A-movement and voice morphology - Anna Roussou (Patras)
DTSTART:20100126T180000Z
DTEND:20100126T193000Z
UID:TALK22518@talks.cam.ac.uk
CONTACT:Dr Theresa Biberauer
DESCRIPTION:Abstract not available
LOCATION:G-R04\, English Faculty
END:VEVENT
END:VCALENDAR
