BEGIN:VCALENDAR
VERSION:2.0
PRODID:-//Talks.cam//talks.cam.ac.uk//
X-WR-CALNAME:Talks.cam
BEGIN:VEVENT
SUMMARY:Computations of necklaces on elliptic curves - Chris Wuthrich (Not
 tingham)
DTSTART:20250304T143000Z
DTEND:20250304T153000Z
UID:TALK225664@talks.cam.ac.uk
CONTACT:Rong Zhou
DESCRIPTION:The points on the modular curve associated to the normaliser o
 f a non-split Cartan subgroup can be represented as elliptic curves with a
  necklace level structure. I will explain what these necklaces are and how
  they are useful in understanding this curve and how we can calculate expl
 icitly with necklaces.
LOCATION:MR13
END:VEVENT
END:VCALENDAR
