BEGIN:VCALENDAR
VERSION:2.0
PRODID:-//Talks.cam//talks.cam.ac.uk//
X-WR-CALNAME:Talks.cam
BEGIN:VEVENT
SUMMARY:Using time-lapse imaging to investigate the coordination and regul
 ation of nutrient exchange during arbuscular mycorrhizal symbiosis - Dr. J
 ennifer McGaley (Paszkowki Lab Group\, CSC)
DTSTART:20250227T121500Z
DTEND:20250227T134500Z
UID:TALK225934@talks.cam.ac.uk
CONTACT:115405
DESCRIPTION:*Abstract* Arbuscular mycorrhizal (AM) symbiosis\, the partner
 ship between Glomeromycotina fungi and most plant species\, is a corne
 rstone of nearly every terrestrial ecosystem across all continents. AM sym
 biosis revolves around nutrient exchange\, with AM fungi providing soil mi
 neral nutrients to plants and receiving organic carbon in return. While mu
 ch has been elucidated about these nutrient transfers at the whole organis
 m scale\, little is known about their coordination at the actual sites of 
 nutrient exchange: the intracellular plant-fungal 'arbuscules'. Investigat
 ing arbuscule-scale processes has proven challenging due to their spatial 
 heterogeneity\, temporal dynamism\, and concealed location within plant ro
 ot cells underground. In this talk I will present the development of a cus
 tom\, non-invasive\, high- resolution imaging system for tracking arbuscul
 e dynamics over extended time periods. I will share the insights it has gi
 ven us into the coordination and regulation of phosphorus\, nitrogen and c
 arbon transfer during the interaction between rice and AM fungi\, and the 
 implications of this for our understanding of AM symbiosis. \n\n*Please no
 te the seminars are for University Of Cambridge members ONLY.*
LOCATION:Department of Plant Sciences\, Large Lecture Theatre
END:VEVENT
END:VCALENDAR
