BEGIN:VCALENDAR
VERSION:2.0
PRODID:-//Talks.cam//talks.cam.ac.uk//
X-WR-CALNAME:Talks.cam
BEGIN:VEVENT
SUMMARY:Jumping to Delusions - how the brain takes dangerous shortcuts - P
 rofessor Paul Fletcher\, Bernard Wolfe Professor of Health Neuroscience\, 
 Department of Psychiatry\, University of Cambridge
DTSTART:20100324T193000Z
DTEND:20100324T203000Z
UID:TALK22604@talks.cam.ac.uk
CONTACT:16065
DESCRIPTION:An informal introduction will be provided by Dr Paul Fletcher 
 (Department of Psychiatry) will be followed by a discussion and refreshmen
 ts.\n\nThis FREE event is sponsored by the MRC .\n\nCafe Scientifique is a
  place where anyone can come to discuss the science that is changing our l
 ives with the people who are making the discoveries. Join us every month\,
  when a different scientist will informally discuss their work and take qu
 estions from the floor.
LOCATION:Larkum Studio\, ADC Theatre\, Park Street\, Cambridge
END:VEVENT
END:VCALENDAR
