BEGIN:VCALENDAR
VERSION:2.0
PRODID:-//Talks.cam//talks.cam.ac.uk//
X-WR-CALNAME:Talks.cam
BEGIN:VEVENT
SUMMARY:&quot\;Somatic genetics of human cancer – moving towards large s
 cale resequencing of cancer genomes&quot\; - Dr Andy Futreal\, The Wellcom
 e Trust Sanger Institute\, Hinxton
DTSTART:20101109T120000Z
DTEND:20101109T130000Z
UID:TALK22630@talks.cam.ac.uk
CONTACT:Mala Jayasundera
DESCRIPTION:Abstract not available
LOCATION:CRI Lecture Theatre
END:VEVENT
END:VCALENDAR
