BEGIN:VCALENDAR
VERSION:2.0
PRODID:-//Talks.cam//talks.cam.ac.uk//
X-WR-CALNAME:Talks.cam
BEGIN:VEVENT
SUMMARY:Cooperative Mechanisms Against Climate Change - Carl Edward Rasmus
 sen
DTSTART:20250130T130000Z
DTEND:20250130T140000Z
UID:TALK226393@talks.cam.ac.uk
CONTACT:Alexander R Epstein
DESCRIPTION:We must limit climate change to avoid severe consequences. Thi
 s talk will address the question “How?”. Of course this is one of huma
 nity’s grand challenges\, and a complete answer may be elusive. Neverthe
 less\, thinking clearly about the problem enables us to identify certain p
 roperties that a successful solution must have. These include a strong fra
 mework of cooperation and pricing of carbon. I’ll discuss the nature of 
 the problem\, cooperation\, the ethical basis\, and the relation to the Pa
 ris Agreement. If time permits\, I’ll discuss a concrete proposal\, whic
 h I call the “Equitable Atmosphere Climate Cooperative” (EACC).
LOCATION:Richard King room\, Darwin College
END:VEVENT
END:VCALENDAR
