BEGIN:VCALENDAR
VERSION:2.0
PRODID:-//Talks.cam//talks.cam.ac.uk//
X-WR-CALNAME:Talks.cam
BEGIN:VEVENT
SUMMARY:In Silico Models and Digital Twins in Cardiovascular Diagnosis and
  Treatment - Dr Selene Pirola - TU Delft
DTSTART:20250120T110000Z
DTEND:20250120T114500Z
UID:TALK226702@talks.cam.ac.uk
CONTACT:120673
DESCRIPTION:TBA
LOCATION:Lecture Room 3\, Department of Chemical Engineering and Biotechno
 logy\, West Cambridge Site
END:VEVENT
END:VCALENDAR
