BEGIN:VCALENDAR
VERSION:2.0
PRODID:-//Talks.cam//talks.cam.ac.uk//
X-WR-CALNAME:Talks.cam
BEGIN:VEVENT
SUMMARY:Fluorescent labelling\, FRET and Light Sheet Microscopy - Tomás P
 ais de Azevedo\, MRC LMB
DTSTART:20250206T093000Z
DTEND:20250206T103000Z
UID:TALK226846@talks.cam.ac.uk
CONTACT:127678
DESCRIPTION:Abstract not available
LOCATION:MRC LMB: Max Perutz Lecture Theatre
END:VEVENT
END:VCALENDAR
