BEGIN:VCALENDAR
VERSION:2.0
PRODID:-//Talks.cam//talks.cam.ac.uk//
X-WR-CALNAME:Talks.cam
BEGIN:VEVENT
SUMMARY:Mortality in the century of apartheid\, 1940-1970: spatial and rac
 ial inequalities in mortality and doctors during the antibiotic transition
 .​ - Nick Fitzhenry (LSE)​
DTSTART:20250319T160000Z
DTEND:20250319T173000Z
UID:TALK226984@talks.cam.ac.uk
CONTACT:Jenny Bishop
DESCRIPTION:Abstract not available
LOCATION:Rm 101\, William Hardy Building\, Department of Geography\, Downi
 ng Site
END:VEVENT
END:VCALENDAR
