BEGIN:VCALENDAR
VERSION:2.0
PRODID:-//Talks.cam//talks.cam.ac.uk//
X-WR-CALNAME:Talks.cam
BEGIN:VEVENT
SUMMARY:Evolution on Islands: insights from silvereyes of the southwest Pa
 cific - Prof Sonya Clegg
DTSTART:20250211T180000Z
DTEND:20250211T193000Z
UID:TALK227038@talks.cam.ac.uk
CONTACT:Zhang Xianghao Jeffrey
DESCRIPTION:Evolution on islands has fascinated generations of biologists.
  While weird and wonderful organisms are known from islands\, repeated evo
 lution is also a feature of island biota. The island syndrome refers to th
 e phenomenon where suites of characteristics evolve in predictable ways af
 ter an organism colonises an island. How evolution produces these repeated
  patterns when islands themselves vary in numerous ways is not yet well un
 derstood.  Furthermore\, repeated evolution on islands stems from repeated
  dispersal and colonisation opportunities\, yet speciation usually require
 s some phase of isolation. How then can species that are excellent overwat
 er dispersers diverge and speciate? My research examines how birds evolve 
 on islands using the silvereye  (Zosterops lateralis) of Australia and the
  southwest Pacific. This species is a prolific island coloniser\, providin
 g the opportunity to examine repeated evolution over multiple timescales a
 nd understand how dispersal shapes the evolutionary trajectory of island b
 irds. \n\nTalks are priced at £4 for non-Scientific Society members. Scie
 ntific Society members will have free access to all our talks. Lifetime me
 mbership costs £15 and gives free access to all talks\, members-only even
 ts and priority access to oversubscribed SciSoc events.
LOCATION:Pfizer Lecture Theatre\,  Department of Chemistry\, Lensfield Roa
 d
END:VEVENT
END:VCALENDAR
