BEGIN:VCALENDAR
VERSION:2.0
PRODID:-//Talks.cam//talks.cam.ac.uk//
X-WR-CALNAME:Talks.cam
BEGIN:VEVENT
SUMMARY:Agent-based modelling to inform the design of future transport sys
 tems - Neil Montague\, Arup
DTSTART:20250529T110000Z
DTEND:20250529T120000Z
UID:TALK227608@talks.cam.ac.uk
CONTACT:Daniel Dalton
DESCRIPTION:Abstract not available
LOCATION:Seminar Room\, 2nd Floor South Wing (2S)\, Roger Needham Building
 \, University of Cambridge
END:VEVENT
END:VCALENDAR
