BEGIN:VCALENDAR
VERSION:2.0
PRODID:-//Talks.cam//talks.cam.ac.uk//
X-WR-CALNAME:Talks.cam
BEGIN:VEVENT
SUMMARY:Baroclinic instabilities in accretion discs - Geoffroy Lesur (Camb
 ridge)
DTSTART:20100126T130000Z
DTEND:20100126T140000Z
UID:TALK22819@talks.cam.ac.uk
CONTACT:Dr Geoffroy Lesur
DESCRIPTION:Abstract not available
LOCATION:MR14\, DAMTP\, Pav. F
END:VEVENT
END:VCALENDAR
