BEGIN:VCALENDAR
VERSION:2.0
PRODID:-//Talks.cam//talks.cam.ac.uk//
X-WR-CALNAME:Talks.cam
BEGIN:VEVENT
SUMMARY:Gastroenterology &amp\; Infectious Diseases / Clinical Microbiolog
 y - Speaker to be confirmed
DTSTART:20250507T120000Z
DTEND:20250507T130000Z
UID:TALK228538@talks.cam.ac.uk
CONTACT:Debs Wiley
DESCRIPTION:Abstract not available
LOCATION:Venue to be confirmed
END:VEVENT
END:VCALENDAR
