BEGIN:VCALENDAR
VERSION:2.0
PRODID:-//Talks.cam//talks.cam.ac.uk//
X-WR-CALNAME:Talks.cam
BEGIN:VEVENT
SUMMARY:St John's College (Cambridge) and the Reformation\, 1534-74 - Rich
 ard Rex (Queens' College)
DTSTART:20100127T170000Z
DTEND:20100127T183000Z
UID:TALK22879@talks.cam.ac.uk
CONTACT:Richard Serjeantson
DESCRIPTION:27 January 2010 \n
LOCATION:Graham Storey Room\, Trinity Hall
END:VEVENT
END:VCALENDAR
