BEGIN:VCALENDAR
VERSION:2.0
PRODID:-//Talks.cam//talks.cam.ac.uk//
X-WR-CALNAME:Talks.cam
BEGIN:VEVENT
SUMMARY:Anglo-French Cultural Transmission: the case of John Locke and the
  Huguenots - Delphine Soulard (University of Provence\, Aix-Marseille I)
DTSTART:20100224T170000Z
DTEND:20100224T183000Z
UID:TALK22883@talks.cam.ac.uk
CONTACT:Richard Serjeantson
DESCRIPTION: \n24 February 2010 \n
LOCATION:Graham Storey Room\, Trinity Hall
END:VEVENT
END:VCALENDAR
