BEGIN:VCALENDAR
VERSION:2.0
PRODID:-//Talks.cam//talks.cam.ac.uk//
X-WR-CALNAME:Talks.cam
BEGIN:VEVENT
SUMMARY:A Discussion: What AI Tools Do You Use for Your Daily Work?  - Pro
 f Srinivasan Keshav
DTSTART:20250307T130000Z
DTEND:20250307T135500Z
UID:TALK229027@talks.cam.ac.uk
CONTACT:114742
DESCRIPTION:This is a discussion for the EEG Group.
LOCATION:FW11\, William Gates Building. Zoom link: https://cl-cam-ac-uk.zo
 om.us/j/4361570789?pwd=Nkl2T3ZLaTZwRm05bzRTOUUxY3Q4QT09&amp\;from=addon 
END:VEVENT
END:VCALENDAR
