BEGIN:VCALENDAR
VERSION:2.0
PRODID:-//Talks.cam//talks.cam.ac.uk//
X-WR-CALNAME:Talks.cam
BEGIN:VEVENT
SUMMARY:CBC Innovation Breakfast: Is engineering an integral part of medic
 ine? - Dr Neel Sharma\, Gastrointestinal (GI) Medicine Specialist and GI O
 ncology Trials Clinician and Founder and Director of the Clinician Enginee
 r Hub\, Cambridge University Hospitals NHS Foundation Trust (CUH)
DTSTART:20250429T073000Z
DTEND:20250429T083000Z
UID:TALK230029@talks.cam.ac.uk
CONTACT:Dr Neel Sharma
DESCRIPTION:Neel will share his experience as a clinician and the importan
 ce of engineering in his role.\n\n
LOCATION:Seminar Rooms 2&amp\;3: University of Cambridge Clinical School\,
  Cambridge Biomedical Campus\, Hills Rd\, Cambridge CB2 0SP
END:VEVENT
END:VCALENDAR
