BEGIN:VCALENDAR
VERSION:2.0
PRODID:-//Talks.cam//talks.cam.ac.uk//
X-WR-CALNAME:Talks.cam
BEGIN:VEVENT
SUMMARY:Ecology of galaxy stellar populations in the local Universe - Anna
  Gallazzi (MPIA Heidelberg)
DTSTART:20100127T134500Z
DTEND:20100127T141500Z
UID:TALK23027@talks.cam.ac.uk
CONTACT:Dr Jonathan Gair
DESCRIPTION:Abstract not available
LOCATION:Sackler Lecture Theatre\, IoA
END:VEVENT
END:VCALENDAR
